BEGIN:VCALENDAR
VERSION:2.0
PRODID:-//Pharmaceutical Society of Kenya - ECPv6.15.20//NONSGML v1.0//EN
CALSCALE:GREGORIAN
METHOD:PUBLISH
X-WR-CALNAME:Pharmaceutical Society of Kenya
X-ORIGINAL-URL:https://psk.or.ke
X-WR-CALDESC:Events for Pharmaceutical Society of Kenya
REFRESH-INTERVAL;VALUE=DURATION:PT1H
X-Robots-Tag:noindex
X-PUBLISHED-TTL:PT1H
BEGIN:VTIMEZONE
TZID:Europe/Moscow
BEGIN:STANDARD
TZOFFSETFROM:+0300
TZOFFSETTO:+0300
TZNAME:MSK
DTSTART:20250101T000000
END:STANDARD
END:VTIMEZONE
BEGIN:VTIMEZONE
TZID:Africa/Nairobi
BEGIN:STANDARD
TZOFFSETFROM:+0300
TZOFFSETTO:+0300
TZNAME:EAT
DTSTART:20250101T000000
END:STANDARD
END:VTIMEZONE
BEGIN:VEVENT
DTSTART;TZID=Europe/Moscow:20260422T080000
DTEND;TZID=Europe/Moscow:20260424T170000
DTSTAMP:20260423T124945
CREATED:20260420T214959Z
LAST-MODIFIED:20260420T214959Z
UID:3275-1776844800-1777050000@psk.or.ke
SUMMARY:International Medical & Healthcare Trade Expo (MedExpo)
DESCRIPTION:𝐏𝐒𝐊 𝐚𝐭 𝐌𝐄𝐃𝐄𝐗𝐏𝐎 𝐀𝐅𝐑𝐈𝐂𝐀 𝟐𝟎𝟐𝟔 – 𝐂𝐎𝐌𝐄 𝐒𝐄𝐄 𝐔𝐒! \nWe are proud to participate in the 26th International Medical and Healthcare Products and Equipment Trade Exhibition – MedExpo Africa 2026. \n📅 Dates: 22nd – 24th April 2026\n📍 Venue: Sarit Expo Centre\, Nairobi\n⏰ Time: 10:00 AM – 6:00 PM Daily \nVisit the PSK booth to:\n✅ Learn about PSK membership & CPD opportunities\n✅ Engage with pharmacy leaders\n✅ Explore partnerships and professional resources\n✅ Connect with the broader healthcare industry\nSupported by the Ministry of Health\, Ministry of Investments\, Trade & Industry\, and key health associations. \nCome say hello. Let’s grow the pharmacy profession together!
URL:https://psk.or.ke/event/international-medical-healthcare-trade-expo-medexpo/
ATTACH;FMTTYPE=image/jpeg:https://psk.or.ke/wp-content/uploads/2026/04/ASSOCIATION-BANNER-scaled.jpg
END:VEVENT
BEGIN:VEVENT
DTSTART;TZID=Europe/Moscow:20260423T190000
DTEND;TZID=Europe/Moscow:20260423T203000
DTSTAMP:20260423T124945
CREATED:20260421T100004Z
LAST-MODIFIED:20260421T100004Z
UID:3351-1776970800-1776976200@psk.or.ke
SUMMARY:WEBINAR: Introduction to Research Methods
DESCRIPTION:Are you planning to submit an abstract for the upcoming PSK conference? Join us for a practical\, CPD-accredited session on Research Methods – designed to equip you with the essential tools to design\, conduct\, and present high‑quality research. \n📅 Date: Thursday\, 23rd April 2026\n⏰ Time: 7:00 – 8:30 PM EAT \nWhat you will learn:\n✅ Research design fundamentals\n✅ Data collection and analysis techniques\n✅ How to write a compelling abstract\n✅ Common pitfalls and how to avoid them \n🔗 Register for Conference: www.psk.or.ke/psk-conference-2026\n📝 Submit Your Abstract: https://psk.or.ke/abstract-submission/\n📧 Inquiries: symposium@psk.or.ke \nDon’t miss this opportunity to sharpen your research skills and increase your chances of acceptance at the 46th PSK Annual Scientific Conference.
URL:https://psk.or.ke/event/webinar-introduction-to-research-methods/
ATTACH;FMTTYPE=image/png:https://psk.or.ke/wp-content/uploads/2026/04/Research-Methods.png
END:VEVENT
BEGIN:VEVENT
DTSTART;TZID=Europe/Moscow:20260509T090000
DTEND;TZID=Europe/Moscow:20260509T120000
DTSTAMP:20260423T124945
CREATED:20260420T200944Z
LAST-MODIFIED:20260420T201508Z
UID:3245-1778317200-1778328000@psk.or.ke
SUMMARY:Connecting in Nature - Oloolua Nature Trail
DESCRIPTION:A weekend to step away from our routines and into nature 🌿 \nStep away from the counter\, the ward\, and the screen. Breathe. Walk. Connect. \nThe Public Relations\, Media\, Events & Communications Committee\, in collaboration with PSK Nairobi Branch\, PSK Tana Athi Branch and PSK YPG invites you to a refreshing morning at Oloolua Nature Trail\, Karen. \nJoin us on Saturday 9th May 2026 | 9:00am to 12:00pm for a refreshing nature trail walk designed for unwinding\, bonding\, and networking with fellow pharmacists in a relaxed setting. \nWhether you’re coming for the fresh air\, great conversations\, or the chance to meet someone new (who might just open your next big opportunity)\, this is your sign to show up! \nNature Walk Starter Pack: \n\nComfortable walking shoes (sneakers or trainers)\nLight\, breathable clothing (think casual + weather-friendly)\nA hat/cap and sunscreen\nReusable water bottle (stay hydrated!)\nA friend/colleague\n\nCharges: KES 300 (covers trail fee & logistics) \nPayment: M‑PESA PayBill 4082239 | Account: Walk‑YourName (e.g.\, Walk‑JohnDoe) \nMeeting point: Oloolua Main Entrance \n📞 Enquiries: Dr. Sonia Thuita – 0701 599 484 | pr@psk.or.ke \nLet’s walk\, talk\, and make meaningful connections\, one step at a time – in nature! \nImportant Things to Note:  \n\nOloolua Nature Trail has a no plastic policy and therefore disposable plastics are not allowed.\nParking is free for car owners.\nWe encourage carpooling for participants – Online taxi (Uber/Bolt) or riding together for car owners.\nFor public transit: Oloolua Nature Trail can be accessed by public transport from the CBD using both Ngong road and Langata road for approx. Kes.100. Board bus no. 24 at Kencom Stage plying Langata road and alight at Cemastea at the junction of Bogani road and Karen Road\, walk 600 meters down the road on your left to the Trail’s main gate. If using Ngong road\, take Matatu route 111 at Agro house stage and alight at the Karen Shopping Centre. From Karen you can either take a tuktuk or a matatu for approx. Kes.50 and ask to be dropped at Cemastea\, a motorbike would drop you at the gate but would charge you about approx. Kes.150 from Karen.
URL:https://psk.or.ke/event/connecting-in-nature-oloolua-nature-trail/
LOCATION:Oloolua Nature Trail – Karen\, 44290\, NAIROBI\, Nairobi\, 00100\, Kenya
CATEGORIES:Walks & Hikes
ATTACH;FMTTYPE=image/png:https://psk.or.ke/wp-content/uploads/2026/04/The-Oloolua-Nature-Trail-Walk-V2-1.png
END:VEVENT
BEGIN:VEVENT
DTSTART;TZID=Europe/Moscow:20260624T080000
DTEND;TZID=Europe/Moscow:20260626T170000
DTSTAMP:20260423T124945
CREATED:20260420T201931Z
LAST-MODIFIED:20260420T201931Z
UID:3251-1782288000-1782493200@psk.or.ke
SUMMARY:46th PSK Annual Scientific Conference
DESCRIPTION:The 46th PSK Annual Scientific Conference builds on PSK’s longstanding commitment to strengthening Kenya’s health system\, safeguarding patient safety\, and ensuring that pharmaceutical services\, health products\, and technologies effectively meet the needs of Kenyans. The conference brings together over 800 delegates\, including policymakers\, regulators\, healthcare professionals\, industry leaders\, academia\, development partners\, and international experts\, to engage in evidence-based dialogue on the realities shaping healthcare delivery in Kenya and the region.
URL:https://psk.or.ke/event/46th-psk-annual-scientific-conference/
ATTACH;FMTTYPE=image/jpeg:https://psk.or.ke/wp-content/uploads/2026/01/DEM01466-scaled-e1776716352298.jpg
END:VEVENT
BEGIN:VEVENT
DTSTART;VALUE=DATE:20260925
DTEND;VALUE=DATE:20260926
DTSTAMP:20260423T124946
CREATED:20240604T085009Z
LAST-MODIFIED:20260420T214423Z
UID:705-1790294400-1790380799@psk.or.ke
SUMMARY:World Pharmacists Day 2026
DESCRIPTION:Pharmacists’ critical contribution to prevention\, access to care\, health system resilience and sustainability is highlighted in this year’s theme “Empowering pharmacists for healthier futures”. As global health challenges intensify\, FIP\, the global leader in advancing pharmacy\, calls on governments\, policymakers\, regulators\, health insurers and the public to strengthen supportive policies\, invest in education and ensure the full integration within health systems. \nEvery day\, pharmacists across the world address critical health needs. World Pharmacists Day is our opportunity to celebrate and make visible the profession’s contributions to better health outcomes. It is also a time to advocate for the full integration of pharmacists into health strategies and to remind governments\, institutions\, and stakeholders that investing in pharmacists is investing in a healthier future for all.
URL:https://psk.or.ke/event/world-pharmacists-day-2/
CATEGORIES:CPD Event
ATTACH;FMTTYPE=image/jpeg:https://psk.or.ke/wp-content/uploads/2024/06/WPD.jpg
END:VEVENT
END:VCALENDAR