BEGIN:VCALENDAR
VERSION:2.0
PRODID:-//Pharmaceutical Society of Kenya - ECPv6.15.20//NONSGML v1.0//EN
CALSCALE:GREGORIAN
METHOD:PUBLISH
X-WR-CALNAME:Pharmaceutical Society of Kenya
X-ORIGINAL-URL:https://psk.or.ke
X-WR-CALDESC:Events for Pharmaceutical Society of Kenya
REFRESH-INTERVAL;VALUE=DURATION:PT1H
X-Robots-Tag:noindex
X-PUBLISHED-TTL:PT1H
BEGIN:VTIMEZONE
TZID:Africa/Nairobi
BEGIN:STANDARD
TZOFFSETFROM:+0300
TZOFFSETTO:+0300
TZNAME:EAT
DTSTART:20250101T000000
END:STANDARD
END:VTIMEZONE
BEGIN:VEVENT
DTSTART;VALUE=DATE:20260925
DTEND;VALUE=DATE:20260926
DTSTAMP:20260423T160750
CREATED:20240604T085009Z
LAST-MODIFIED:20260420T214423Z
UID:705-1790294400-1790380799@psk.or.ke
SUMMARY:World Pharmacists Day 2026
DESCRIPTION:Pharmacists’ critical contribution to prevention\, access to care\, health system resilience and sustainability is highlighted in this year’s theme “Empowering pharmacists for healthier futures”. As global health challenges intensify\, FIP\, the global leader in advancing pharmacy\, calls on governments\, policymakers\, regulators\, health insurers and the public to strengthen supportive policies\, invest in education and ensure the full integration within health systems. \nEvery day\, pharmacists across the world address critical health needs. World Pharmacists Day is our opportunity to celebrate and make visible the profession’s contributions to better health outcomes. It is also a time to advocate for the full integration of pharmacists into health strategies and to remind governments\, institutions\, and stakeholders that investing in pharmacists is investing in a healthier future for all.
URL:https://psk.or.ke/event/world-pharmacists-day-2/
CATEGORIES:CPD Event
ATTACH;FMTTYPE=image/jpeg:https://psk.or.ke/wp-content/uploads/2024/06/WPD.jpg
END:VEVENT
END:VCALENDAR