BEGIN:VCALENDAR
VERSION:2.0
PRODID:-//Pharmaceutical Society of Kenya - ECPv6.15.20//NONSGML v1.0//EN
CALSCALE:GREGORIAN
METHOD:PUBLISH
X-WR-CALNAME:Pharmaceutical Society of Kenya
X-ORIGINAL-URL:https://psk.or.ke
X-WR-CALDESC:Events for Pharmaceutical Society of Kenya
REFRESH-INTERVAL;VALUE=DURATION:PT1H
X-Robots-Tag:noindex
X-PUBLISHED-TTL:PT1H
BEGIN:VTIMEZONE
TZID:Europe/Moscow
BEGIN:STANDARD
TZOFFSETFROM:+0300
TZOFFSETTO:+0300
TZNAME:MSK
DTSTART:20250101T000000
END:STANDARD
END:VTIMEZONE
BEGIN:VEVENT
DTSTART;TZID=Europe/Moscow:20260411T080000
DTEND;TZID=Europe/Moscow:20260411T120000
DTSTAMP:20260423T195304
CREATED:20260420T215535Z
LAST-MODIFIED:20260420T215535Z
UID:3278-1775894400-1775908800@psk.or.ke
SUMMARY:Pharmacists Prayer Day
DESCRIPTION:The Pharmaceutical Society of Kenya invites all members to a special Moment of Reflection\, Unity\, and Spiritual Alignment. \nIn the busyness of our daily practice—dispensing\, counselling\, managing\, leading—let us pause. Let us come together as one pharmacy family to reflect\, give thanks\, and seek guidance for the road ahead. \n📅 Saturday\, 11th April 2026 \n⏰ 9:00 AM – 11:00 AM \n📍 Venue: The Nairobi Hospital Amphitheatre \nSAVE THE DATE! \nWhether in community\, hospital\, industry\, academia\, or any other practice setting—you are invited. Let us stand together in unity and faith.
URL:https://psk.or.ke/event/pharmacists-prayer-day/
LOCATION:The Nairobi Hospital Amphitheatre
ATTACH;FMTTYPE=image/png:https://psk.or.ke/wp-content/uploads/2026/04/PRAYER-DAY-3.png
END:VEVENT
END:VCALENDAR